Package: DOSE Version: 3.30.5 Command: chmod a+r DOSE -R && E:\biocbuild\bbs-3.19-bioc\R\bin\R.exe CMD build --keep-empty-dirs --no-resave-data DOSE StartedAt: 2024-10-16 18:46:40 -0400 (Wed, 16 Oct 2024) EndedAt: 2024-10-16 18:47:28 -0400 (Wed, 16 Oct 2024) EllapsedTime: 47.3 seconds RetCode: 0 Status: OK PackageFile: DOSE_3.30.5.tar.gz PackageFileSize: 6.488 MiB