Package: DOSE Version: 3.30.1 Command: rm -rf DOSE.buildbin-libdir && mkdir DOSE.buildbin-libdir && F:\biocbuild\bbs-3.19-bioc\R\bin\R.exe CMD INSTALL --build --library=DOSE.buildbin-libdir DOSE_3.30.1.tar.gz StartedAt: 2024-06-27 08:08:35 -0400 (Thu, 27 Jun 2024) EndedAt: 2024-06-27 08:09:12 -0400 (Thu, 27 Jun 2024) EllapsedTime: 37.7 seconds RetCode: 0 Status: OK PackageFile: DOSE_3.30.1.zip PackageFileSize: 6.864 MiB