Package: DOSE Version: 3.30.5 Command: /home/biocbuild/bbs-3.19-bioc/R/bin/R CMD INSTALL DOSE StartedAt: 2024-10-16 16:28:10 -0400 (Wed, 16 Oct 2024) EndedAt: 2024-10-16 16:28:34 -0400 (Wed, 16 Oct 2024) EllapsedTime: 24.4 seconds RetCode: 0 Status: OK