Package: DOSE Version: 3.30.5 Command: /home/biocbuild/bbs-3.19-bioc/R/bin/R CMD build --keep-empty-dirs --no-resave-data DOSE StartedAt: 2024-10-16 18:16:27 -0400 (Wed, 16 Oct 2024) EndedAt: 2024-10-16 18:17:01 -0400 (Wed, 16 Oct 2024) EllapsedTime: 34.1 seconds RetCode: 0 Status: OK PackageFile: DOSE_3.30.5.tar.gz PackageFileSize: 6.488 MiB