Package: DOSE Version: 3.30.5 Command: /Library/Frameworks/R.framework/Resources/bin/R CMD INSTALL DOSE StartedAt: 2024-10-16 16:15:59 -0400 (Wed, 16 Oct 2024) EndedAt: 2024-10-16 16:16:58 -0400 (Wed, 16 Oct 2024) EllapsedTime: 58.6 seconds RetCode: 0 Status: OK