Package: DOSE Version: 3.30.0 Command: /home/biocbuild/R/R-beta-2024-04-15_r86425/bin/R CMD check --install=check:DOSE.install-out.txt --library=/home/biocbuild/R/R-beta-2024-04-15_r86425/site-library --no-vignettes --timings DOSE_3.30.0.tar.gz StartedAt: 2024-05-09 06:56:07 -0000 (Thu, 09 May 2024) EndedAt: 2024-05-09 07:00:11 -0000 (Thu, 09 May 2024) EllapsedTime: 243.4 seconds RetCode: 0 Status: OK CheckDir: DOSE.Rcheck Warnings: 0