Package: DOSE Version: 3.30.1 Command: /Library/Frameworks/R.framework/Resources/bin/R CMD build --keep-empty-dirs --no-resave-data DOSE StartedAt: 2024-06-09 20:52:39 -0400 (Sun, 09 Jun 2024) EndedAt: 2024-06-09 20:53:36 -0400 (Sun, 09 Jun 2024) EllapsedTime: 57.0 seconds RetCode: 0 Status: OK PackageFile: DOSE_3.30.1.tar.gz PackageFileSize: 6.492 MiB