Package: DOSE Version: 3.30.5 Command: /Library/Frameworks/R.framework/Resources/bin/R CMD build --keep-empty-dirs --no-resave-data DOSE StartedAt: 2024-10-16 23:35:17 -0400 (Wed, 16 Oct 2024) EndedAt: 2024-10-16 23:36:00 -0400 (Wed, 16 Oct 2024) EllapsedTime: 42.3 seconds RetCode: 0 Status: OK PackageFile: DOSE_3.30.5.tar.gz PackageFileSize: 6.488 MiB