Package: DOSE Version: 3.30.5 Command: rm -rf DOSE.buildbin-libdir && mkdir DOSE.buildbin-libdir && /Users/biocbuild/BBS/utils/build-universal.sh DOSE_3.30.5.tar.gz /Library/Frameworks/R.framework/Resources/bin/R DOSE.buildbin-libdir StartedAt: 2024-10-18 18:15:44 -0400 (Fri, 18 Oct 2024) EndedAt: 2024-10-18 18:16:17 -0400 (Fri, 18 Oct 2024) EllapsedTime: 33.1 seconds RetCode: 0 Status: OK PackageFile: DOSE_3.30.5.tgz PackageFileSize: 6.879 MiB