Package: DNAshapeR Version: 1.32.0 Command: rm -rf DNAshapeR.buildbin-libdir && mkdir DNAshapeR.buildbin-libdir && E:\biocbuild\bbs-3.19-bioc\R\bin\R.exe CMD INSTALL --build --library=DNAshapeR.buildbin-libdir DNAshapeR_1.32.0.tar.gz StartedAt: 2024-10-17 07:42:56 -0400 (Thu, 17 Oct 2024) EndedAt: 2024-10-17 07:43:45 -0400 (Thu, 17 Oct 2024) EllapsedTime: 48.9 seconds RetCode: 0 Status: OK PackageFile: DNAshapeR_1.32.0.zip PackageFileSize: 1.439 MiB