Package: DNAshapeR Version: 1.32.0 Command: /Library/Frameworks/R.framework/Resources/bin/R CMD INSTALL DNAshapeR StartedAt: 2024-10-16 15:15:48 -0400 (Wed, 16 Oct 2024) EndedAt: 2024-10-16 15:17:13 -0400 (Wed, 16 Oct 2024) EllapsedTime: 85.7 seconds RetCode: 0 Status: OK