Package: DNAshapeR Version: 1.32.0 Maintainer: Tsu-Pei Chiu MaintainerEmail: tsupeich at usc.edu git_url: https://git.bioconductor.org/packages/DNAshapeR git_branch: RELEASE_3_19 git_last_commit: b1c80a3 git_last_commit_date: 2024-04-30 10:49:17 -0400 (Tue, 30 Apr 2024)