Package: DNAfusion Version: 1.6.0 Command: chmod a+r DNAfusion -R && E:\biocbuild\bbs-3.19-bioc\R\bin\R.exe CMD build --keep-empty-dirs --no-resave-data DNAfusion StartedAt: 2024-10-16 18:45:56 -0400 (Wed, 16 Oct 2024) EndedAt: 2024-10-16 18:49:11 -0400 (Wed, 16 Oct 2024) EllapsedTime: 194.9 seconds RetCode: 0 Status: OK PackageFile: DNAfusion_1.6.0.tar.gz PackageFileSize: 6.298 MiB