Package: DNAfusion Version: 1.6.0 Command: /home/biocbuild/bbs-3.19-bioc/R/bin/R CMD build --keep-empty-dirs --no-resave-data DNAfusion StartedAt: 2024-10-16 18:16:03 -0400 (Wed, 16 Oct 2024) EndedAt: 2024-10-16 18:18:51 -0400 (Wed, 16 Oct 2024) EllapsedTime: 167.3 seconds RetCode: 0 Status: OK PackageFile: DNAfusion_1.6.0.tar.gz PackageFileSize: 6.298 MiB