Package: DNAfusion Version: 1.6.0 Maintainer: Christoffer Trier Maansson MaintainerEmail: ctm at clin.au.dk git_url: https://git.bioconductor.org/packages/DNAfusion git_branch: RELEASE_3_19 git_last_commit: 4ba0c6d git_last_commit_date: 2024-04-30 11:45:47 -0400 (Tue, 30 Apr 2024)