Package: DNAcopy Version: 1.78.0 Command: E:\biocbuild\bbs-3.19-bioc\R\bin\R.exe CMD INSTALL DNAcopy StartedAt: 2024-10-16 15:58:18 -0400 (Wed, 16 Oct 2024) EndedAt: 2024-10-16 15:58:38 -0400 (Wed, 16 Oct 2024) EllapsedTime: 20.6 seconds RetCode: 0 Status: OK