Package: DNAcopy Version: 1.78.0 Command: chmod a+r DNAcopy -R && F:\biocbuild\bbs-3.19-bioc\R\bin\R.exe CMD build --keep-empty-dirs --no-resave-data DNAcopy StartedAt: 2024-06-26 18:28:42 -0400 (Wed, 26 Jun 2024) EndedAt: 2024-06-26 18:29:04 -0400 (Wed, 26 Jun 2024) EllapsedTime: 21.6 seconds RetCode: 0 Status: OK PackageFile: DNAcopy_1.78.0.tar.gz PackageFileSize: 291.4 KiB