Package: DNAcopy Version: 1.78.0 Command: rm -rf DNAcopy.buildbin-libdir && mkdir DNAcopy.buildbin-libdir && F:\biocbuild\bbs-3.19-bioc\R\bin\R.exe CMD INSTALL --build --library=DNAcopy.buildbin-libdir DNAcopy_1.78.0.tar.gz StartedAt: 2024-06-27 08:08:21 -0400 (Thu, 27 Jun 2024) EndedAt: 2024-06-27 08:08:36 -0400 (Thu, 27 Jun 2024) EllapsedTime: 15.8 seconds RetCode: 0 Status: OK PackageFile: DNAcopy_1.78.0.zip PackageFileSize: 551.2 KiB