Package: DNAcopy Version: 1.78.0 Command: /Library/Frameworks/R.framework/Resources/bin/R CMD build --keep-empty-dirs --no-resave-data DNAcopy StartedAt: 2024-10-16 18:50:02 -0400 (Wed, 16 Oct 2024) EndedAt: 2024-10-16 18:50:28 -0400 (Wed, 16 Oct 2024) EllapsedTime: 26.3 seconds RetCode: 0 Status: OK PackageFile: DNAcopy_1.78.0.tar.gz PackageFileSize: 404.7 KiB