Package: DNAcopy Version: 1.78.0 Command: /home/biocbuild/R/R-beta-2024-04-15_r86425/bin/R CMD build --keep-empty-dirs --no-resave-data DNAcopy StartedAt: 2024-05-08 23:59:16 -0000 (Wed, 08 May 2024) EndedAt: 2024-05-08 23:59:26 -0000 (Wed, 08 May 2024) EllapsedTime: 10.0 seconds RetCode: 0 Status: OK PackageFile: DNAcopy_1.78.0.tar.gz PackageFileSize: 395.1 KiB