Package: DNAcopy Version: 1.78.0 Command: /Library/Frameworks/R.framework/Resources/bin/R CMD build --keep-empty-dirs --no-resave-data DNAcopy StartedAt: 2024-10-16 23:31:21 -0400 (Wed, 16 Oct 2024) EndedAt: 2024-10-16 23:31:40 -0400 (Wed, 16 Oct 2024) EllapsedTime: 19.4 seconds RetCode: 0 Status: OK PackageFile: DNAcopy_1.78.0.tar.gz PackageFileSize: 404.7 KiB