Package: DNABarcodes Version: 1.34.1 Command: E:\biocbuild\bbs-3.19-bioc\R\bin\R.exe CMD INSTALL DNABarcodes StartedAt: 2024-10-16 16:54:29 -0400 (Wed, 16 Oct 2024) EndedAt: 2024-10-16 16:55:57 -0400 (Wed, 16 Oct 2024) EllapsedTime: 87.4 seconds RetCode: 0 Status: OK