Package: DNABarcodes Version: 1.34.1 Command: /home/biocbuild/bbs-3.19-bioc/R/bin/R CMD check --install=check:DNABarcodes.install-out.txt --library=/home/biocbuild/bbs-3.19-bioc/R/site-library --timings DNABarcodes_1.34.1.tar.gz StartedAt: 2024-10-16 23:55:16 -0400 (Wed, 16 Oct 2024) EndedAt: 2024-10-16 23:56:11 -0400 (Wed, 16 Oct 2024) EllapsedTime: 55.1 seconds RetCode: 0 Status: OK CheckDir: DNABarcodes.Rcheck Warnings: 0