Package: DNABarcodes Version: 1.34.1 Command: /Library/Frameworks/R.framework/Resources/bin/R CMD INSTALL DNABarcodes StartedAt: 2024-10-16 16:13:28 -0400 (Wed, 16 Oct 2024) EndedAt: 2024-10-16 16:15:54 -0400 (Wed, 16 Oct 2024) EllapsedTime: 145.8 seconds RetCode: 0 Status: OK