Package: DNABarcodes Version: 1.34.1 Command: /Library/Frameworks/R.framework/Resources/bin/R CMD check --install=check:DNABarcodes.install-out.txt --library=/Library/Frameworks/R.framework/Resources/library --no-vignettes --timings DNABarcodes_1.34.1.tar.gz StartedAt: 2024-10-17 04:28:43 -0400 (Thu, 17 Oct 2024) EndedAt: 2024-10-17 04:30:45 -0400 (Thu, 17 Oct 2024) EllapsedTime: 122.2 seconds RetCode: 0 Status: OK CheckDir: DNABarcodes.Rcheck Warnings: 0