Package: DNABarcodes Version: 1.34.1 Command: /Library/Frameworks/R.framework/Resources/bin/R CMD build --keep-empty-dirs --no-resave-data DNABarcodes StartedAt: 2024-10-16 18:49:23 -0400 (Wed, 16 Oct 2024) EndedAt: 2024-10-16 18:52:55 -0400 (Wed, 16 Oct 2024) EllapsedTime: 212.4 seconds RetCode: 0 Status: OK PackageFile: DNABarcodes_1.34.1.tar.gz PackageFileSize: 347.8 KiB