Package: DNABarcodes Version: 1.34.1 Command: rm -rf DNABarcodes.buildbin-libdir && mkdir DNABarcodes.buildbin-libdir && /Users/biocbuild/BBS/utils/build-universal.sh DNABarcodes_1.34.1.tar.gz /Library/Frameworks/R.framework/Resources/bin/R DNABarcodes.buildbin-libdir StartedAt: 2024-10-17 16:03:10 -0400 (Thu, 17 Oct 2024) EndedAt: 2024-10-17 16:05:49 -0400 (Thu, 17 Oct 2024) EllapsedTime: 159.4 seconds RetCode: 0 Status: OK PackageFile: DNABarcodes_1.34.1.tgz PackageFileSize: 485.4 KiB