Package: DNABarcodeCompatibility Version: 1.20.0 Command: rm -rf DNABarcodeCompatibility.buildbin-libdir && mkdir DNABarcodeCompatibility.buildbin-libdir && E:\biocbuild\bbs-3.19-bioc\R\bin\R.exe CMD INSTALL --build --library=DNABarcodeCompatibility.buildbin-libdir DNABarcodeCompatibility_1.20.0.tar.gz StartedAt: 2024-10-17 07:42:43 -0400 (Thu, 17 Oct 2024) EndedAt: 2024-10-17 07:43:49 -0400 (Thu, 17 Oct 2024) EllapsedTime: 66.0 seconds RetCode: 0 Status: OK PackageFile: DNABarcodeCompatibility_1.20.0.zip PackageFileSize: 326.3 KiB