Package: DNABarcodeCompatibility Version: 1.20.0 Command: F:\biocbuild\bbs-3.19-bioc\R\bin\R.exe CMD check --no-multiarch --install=check:DNABarcodeCompatibility.install-out.txt --library=F:\biocbuild\bbs-3.19-bioc\R\library --no-vignettes --timings DNABarcodeCompatibility_1.20.0.tar.gz StartedAt: 2024-06-27 01:07:58 -0400 (Thu, 27 Jun 2024) EndedAt: 2024-06-27 01:09:16 -0400 (Thu, 27 Jun 2024) EllapsedTime: 78.0 seconds RetCode: 0 Status: OK CheckDir: DNABarcodeCompatibility.Rcheck Warnings: 0