Package: DNABarcodeCompatibility Version: 1.20.0 Command: chmod a+r DNABarcodeCompatibility -R && F:\biocbuild\bbs-3.19-bioc\R\bin\R.exe CMD build --keep-empty-dirs --no-resave-data DNABarcodeCompatibility StartedAt: 2024-06-26 18:28:31 -0400 (Wed, 26 Jun 2024) EndedAt: 2024-06-26 18:29:28 -0400 (Wed, 26 Jun 2024) EllapsedTime: 57.6 seconds RetCode: 0 Status: OK PackageFile: DNABarcodeCompatibility_1.20.0.tar.gz PackageFileSize: 249.6 KiB