Package: DNABarcodeCompatibility Version: 1.20.0 Command: rm -rf DNABarcodeCompatibility.buildbin-libdir && mkdir DNABarcodeCompatibility.buildbin-libdir && F:\biocbuild\bbs-3.19-bioc\R\bin\R.exe CMD INSTALL --build --library=DNABarcodeCompatibility.buildbin-libdir DNABarcodeCompatibility_1.20.0.tar.gz StartedAt: 2024-06-27 08:08:15 -0400 (Thu, 27 Jun 2024) EndedAt: 2024-06-27 08:08:33 -0400 (Thu, 27 Jun 2024) EllapsedTime: 18.1 seconds RetCode: 0 Status: OK PackageFile: DNABarcodeCompatibility_1.20.0.zip PackageFileSize: 326.2 KiB