Package: DNABarcodeCompatibility Version: 1.20.0 Command: /home/biocbuild/bbs-3.19-bioc/R/bin/R CMD check --install=check:DNABarcodeCompatibility.install-out.txt --library=/home/biocbuild/bbs-3.19-bioc/R/site-library --timings DNABarcodeCompatibility_1.20.0.tar.gz StartedAt: 2024-10-16 23:55:16 -0400 (Wed, 16 Oct 2024) EndedAt: 2024-10-16 23:56:50 -0400 (Wed, 16 Oct 2024) EllapsedTime: 94.2 seconds RetCode: 0 Status: OK CheckDir: DNABarcodeCompatibility.Rcheck Warnings: 0