Package: DNABarcodeCompatibility Version: 1.20.0 Command: /Library/Frameworks/R.framework/Resources/bin/R CMD build --keep-empty-dirs --no-resave-data DNABarcodeCompatibility StartedAt: 2024-10-16 18:49:01 -0400 (Wed, 16 Oct 2024) EndedAt: 2024-10-16 18:51:22 -0400 (Wed, 16 Oct 2024) EllapsedTime: 140.8 seconds RetCode: 0 Status: OK PackageFile: DNABarcodeCompatibility_1.20.0.tar.gz PackageFileSize: 249.2 KiB