Package: DNABarcodeCompatibility Version: 1.20.0 Command: rm -rf DNABarcodeCompatibility.buildbin-libdir && mkdir DNABarcodeCompatibility.buildbin-libdir && /Users/biocbuild/BBS/utils/build-universal.sh DNABarcodeCompatibility_1.20.0.tar.gz /Library/Frameworks/R.framework/Resources/bin/R DNABarcodeCompatibility.buildbin-libdir StartedAt: 2024-06-10 00:15:50 -0400 (Mon, 10 Jun 2024) EndedAt: 2024-06-10 00:16:02 -0400 (Mon, 10 Jun 2024) EllapsedTime: 12.4 seconds RetCode: 0 Status: OK PackageFile: DNABarcodeCompatibility_1.20.0.tgz PackageFileSize: 319.2 KiB