Package: DNABarcodeCompatibility Version: 1.20.0 Command: /home/biocbuild/R/R-beta-2024-04-15_r86425/bin/R CMD build --keep-empty-dirs --no-resave-data DNABarcodeCompatibility StartedAt: 2024-05-08 23:58:29 -0000 (Wed, 08 May 2024) EndedAt: 2024-05-08 23:59:38 -0000 (Wed, 08 May 2024) EllapsedTime: 69.1 seconds RetCode: 0 Status: OK PackageFile: DNABarcodeCompatibility_1.20.0.tar.gz PackageFileSize: 274.4 KiB