Package: DNABarcodeCompatibility Version: 1.20.0 Command: /Library/Frameworks/R.framework/Resources/bin/R CMD INSTALL DNABarcodeCompatibility StartedAt: 2024-06-09 17:44:59 -0400 (Sun, 09 Jun 2024) EndedAt: 2024-06-09 17:45:08 -0400 (Sun, 09 Jun 2024) EllapsedTime: 8.8 seconds RetCode: 0 Status: OK