Package: DNABarcodeCompatibility Version: 1.20.0 Command: /Library/Frameworks/R.framework/Resources/bin/R CMD build --keep-empty-dirs --no-resave-data DNABarcodeCompatibility StartedAt: 2024-06-09 20:50:19 -0400 (Sun, 09 Jun 2024) EndedAt: 2024-06-09 20:51:24 -0400 (Sun, 09 Jun 2024) EllapsedTime: 65.5 seconds RetCode: 0 Status: OK PackageFile: DNABarcodeCompatibility_1.20.0.tar.gz PackageFileSize: 249.5 KiB