Package: DNABarcodeCompatibility Version: 1.20.0 Command: rm -rf DNABarcodeCompatibility.buildbin-libdir && mkdir DNABarcodeCompatibility.buildbin-libdir && /Users/biocbuild/BBS/utils/build-universal.sh DNABarcodeCompatibility_1.20.0.tar.gz /Library/Frameworks/R.framework/Resources/bin/R DNABarcodeCompatibility.buildbin-libdir StartedAt: 2024-06-11 11:00:04 -0400 (Tue, 11 Jun 2024) EndedAt: 2024-06-11 11:00:22 -0400 (Tue, 11 Jun 2024) EllapsedTime: 17.7 seconds RetCode: 0 Status: OK PackageFile: DNABarcodeCompatibility_1.20.0.tgz PackageFileSize: 319.8 KiB