Package: DNABarcodeCompatibility Version: 1.20.0 Command: /Library/Frameworks/R.framework/Resources/bin/R CMD check --install=check:DNABarcodeCompatibility.install-out.txt --library=/Library/Frameworks/R.framework/Resources/library --no-vignettes --timings DNABarcodeCompatibility_1.20.0.tar.gz StartedAt: 2024-10-17 20:01:45 -0400 (Thu, 17 Oct 2024) EndedAt: 2024-10-17 20:03:02 -0400 (Thu, 17 Oct 2024) EllapsedTime: 77.1 seconds RetCode: 0 Status: OK CheckDir: DNABarcodeCompatibility.Rcheck Warnings: 0