Package: DNABarcodeCompatibility Version: 1.20.0 Command: rm -rf DNABarcodeCompatibility.buildbin-libdir && mkdir DNABarcodeCompatibility.buildbin-libdir && /Users/biocbuild/BBS/utils/build-universal.sh DNABarcodeCompatibility_1.20.0.tar.gz /Library/Frameworks/R.framework/Resources/bin/R DNABarcodeCompatibility.buildbin-libdir StartedAt: 2024-10-18 18:14:29 -0400 (Fri, 18 Oct 2024) EndedAt: 2024-10-18 18:14:41 -0400 (Fri, 18 Oct 2024) EllapsedTime: 12.5 seconds RetCode: 0 Status: OK PackageFile: DNABarcodeCompatibility_1.20.0.tgz PackageFileSize: 319.4 KiB