Package: DNABarcodeCompatibility Version: 1.20.0 Maintainer: Céline Trébeau MaintainerEmail: ctrebeau at pasteur.fr git_url: https://git.bioconductor.org/packages/DNABarcodeCompatibility git_branch: RELEASE_3_19 git_last_commit: 5275659 git_last_commit_date: 2024-04-30 11:11:28 -0400 (Tue, 30 Apr 2024)