Package: DMRcate Version: 2.99.5 Command: F:\biocbuild\bbs-3.19-bioc\R\bin\R.exe CMD check --no-multiarch --install=check:DMRcate.install-out.txt --library=F:\biocbuild\bbs-3.19-bioc\R\library --no-vignettes --timings DMRcate_2.99.5.tar.gz StartedAt: 2024-04-22 01:16:09 -0400 (Mon, 22 Apr 2024) EndedAt: 2024-04-22 01:56:10 -0400 (Mon, 22 Apr 2024) EllapsedTime: 2400.6 seconds RetCode: None Status: TIMEOUT CheckDir: DMRcate.Rcheck Warnings: NA