Package: DMRcate Version: 3.0.10 Command: /home/biocbuild/bbs-3.19-bioc/R/bin/R CMD build --keep-empty-dirs --no-resave-data DMRcate StartedAt: 2024-10-16 18:15:13 -0400 (Wed, 16 Oct 2024) EndedAt: 2024-10-16 18:29:57 -0400 (Wed, 16 Oct 2024) EllapsedTime: 883.9 seconds RetCode: 0 Status: OK PackageFile: DMRcate_3.0.10.tar.gz PackageFileSize: 805.9 KiB