Package: DMRcate Version: 3.0.10 Command: /Library/Frameworks/R.framework/Resources/bin/R CMD INSTALL DMRcate StartedAt: 2024-10-16 16:55:09 -0400 (Wed, 16 Oct 2024) EndedAt: 2024-10-16 16:56:19 -0400 (Wed, 16 Oct 2024) EllapsedTime: 70.3 seconds RetCode: 0 Status: OK