Package: DMRcate Version: 3.0.5 Command: /Library/Frameworks/R.framework/Resources/bin/R CMD check --install=check:DMRcate.install-out.txt --library=/Library/Frameworks/R.framework/Resources/library --no-vignettes --timings DMRcate_3.0.5.tar.gz StartedAt: 2024-07-22 04:10:22 -0400 (Mon, 22 Jul 2024) EndedAt: 2024-07-22 04:50:22 -0400 (Mon, 22 Jul 2024) EllapsedTime: 2400.0 seconds RetCode: None Status: TIMEOUT CheckDir: DMRcate.Rcheck Warnings: NA