Package: DMRcate Version: 3.0.1 Command: /Library/Frameworks/R.framework/Resources/bin/R CMD INSTALL DMRcate StartedAt: 2024-06-09 15:46:16 -0400 (Sun, 09 Jun 2024) EndedAt: 2024-06-09 15:46:59 -0400 (Sun, 09 Jun 2024) EllapsedTime: 42.9 seconds RetCode: 0 Status: OK