Package: DMRcate Version: 3.0.10 Command: /Library/Frameworks/R.framework/Resources/bin/R CMD INSTALL DMRcate StartedAt: 2024-10-16 18:53:00 -0400 (Wed, 16 Oct 2024) EndedAt: 2024-10-16 18:54:15 -0400 (Wed, 16 Oct 2024) EllapsedTime: 74.8 seconds RetCode: 0 Status: OK