Package: DMRcate Version: 3.0.10 Command: /Library/Frameworks/R.framework/Resources/bin/R CMD check --install=check:DMRcate.install-out.txt --library=/Library/Frameworks/R.framework/Resources/library --no-vignettes --timings DMRcate_3.0.10.tar.gz StartedAt: 2024-10-17 19:56:28 -0400 (Thu, 17 Oct 2024) EndedAt: 2024-10-17 20:22:18 -0400 (Thu, 17 Oct 2024) EllapsedTime: 1549.6 seconds RetCode: 0 Status: OK CheckDir: DMRcate.Rcheck Warnings: 0