Package: DMRcate Version: 3.0.10 Command: /Library/Frameworks/R.framework/Resources/bin/R CMD build --keep-empty-dirs --no-resave-data DMRcate StartedAt: 2024-10-16 23:29:05 -0400 (Wed, 16 Oct 2024) EndedAt: 2024-10-16 23:48:49 -0400 (Wed, 16 Oct 2024) EllapsedTime: 1184.6 seconds RetCode: 0 Status: OK PackageFile: DMRcate_3.0.10.tar.gz PackageFileSize: 816.9 KiB