Package: DMRcaller Version: 1.36.0 Command: rm -rf DMRcaller.buildbin-libdir && mkdir DMRcaller.buildbin-libdir && E:\biocbuild\bbs-3.19-bioc\R\bin\R.exe CMD INSTALL --build --library=DMRcaller.buildbin-libdir DMRcaller_1.36.0.tar.gz StartedAt: 2024-10-17 07:42:29 -0400 (Thu, 17 Oct 2024) EndedAt: 2024-10-17 07:42:57 -0400 (Thu, 17 Oct 2024) EllapsedTime: 28.1 seconds RetCode: 0 Status: OK PackageFile: DMRcaller_1.36.0.zip PackageFileSize: 1.842 MiB